{"text_format":"3","workbook":"xlsx","n_sheets":3,"sheets":["Poptávka","formátovací list","export"],"not_rendered":{"images":3,"defined_names":5,"comments":2},"read":"whole","date_system":"1900"}

{"sheet":"Poptávka","index":0,"n_rows":59,"n_cols":45,"rows_kept":59,"merged":[[2,3,2,9],[2,12,2,17],[3,3,3,5],[3,12,3,13],[3,14,3,15],[5,1,5,4],[5,6,5,7],[5,9,5,11],[5,12,8,16],[6,1,6,4],[6,5,6,6],[6,7,6,11],[7,1,7,4],[7,6,7,11],[8,1,8,4],[8,6,8,11],[9,3,9,4],[9,5,9,6],[9,7,9,10],[9,11,9,12],[9,13,9,14],[9,15,9,16],[10,1,10,2],[10,3,10,4],[10,5,10,6],[10,7,10,10],[10,11,10,12],[10,13,10,14],[10,15,10,16],[11,1,11,2],[11,3,11,4],[11,5,11,6],[11,7,11,10],[11,11,11,14],[11,15,11,16],[11,19,11,27],[12,1,12,2],[12,3,12,4],[12,5,12,6],[12,7,12,10],[12,11,12,14],[12,15,12,16],[13,1,13,2],[13,3,13,4],[13,5,13,6],[13,7,13,10],[13,15,13,16],[13,19,13,27],[13,30,13,38],[14,1,14,3],[14,4,14,16],[15,1,16,1],[15,2,16,2],[15,3,15,5],[15,6,16,6],[15,7,15,8],[15,9,16,10],[15,11,15,16],[15,20,16,20],[15,21,16,21],[15,22,16,22],[15,25,15,29],[15,42,15,44],[17,19,17,20],[18,19,18,20],[23,19,23,20],[53,11,53,12],[53,13,53,14],[53,15,53,16],[54,1,54,7],[54,8,54,10],[54,11,54,16],[56,11,56,12],[56,15,57,16],[58,1,58,2],[58,3,58,5],[58,7,58,10],[58,11,58,15]]}
[{"$nulls":16},"v 1.9",null,null,"prořez LTD",{"v":1.3,"d":"1.3 %"}]
[{"$nulls":3},"Lis Plast s.r.o.    Nám. T.G.Masaryka 729/7    Břeclav    69002   Ico 26216761   Dic CZ26216761",{"$nulls":15},"prořez ABS",{"v":0.08,"d":"0.080 bm"}]
[{"$nulls":3},"Lis Plast s.r.o.    U Malého lesa 1782/14   Žďár nad Sázavou 59101",{"$nulls":8},"566629979     606753330 ",{"$nulls":6},"formát",{"$f":"N11*P11/1000000","v":{"v":3.416,"d":"3.416 m2"}}]
[{"$nulls":3},"lisplast@lisplast.cz",{"$nulls":10},"  /  2023",{"$nulls":4},"řezáni",{"v":12,"d":"12 m.d."}]
[{"$nulls":19},"hranění",{"v":20,"d":"20 m.d."}]
[null," Firma (obchodní jméno):",{"$nulls":3}," IČO:",null,null,"DIČ:",{"$nulls":10},"pant",{"v":25,"d":"25 kč/1ks"}]
[{"$nulls":5}," Kontaktní osoba:",{"$nulls":13},"drážka",{"v":35,"d":"35 kč"}]
[null," Ulice , Město , Psč",{"$nulls":3}," Tel.:",{"$nulls":13},"falc",{"v":35,"d":"35 kč"}]
[{"$nulls":5}," e-mail:"]
[null,null,"uprava ceny       LTD","Dekor",null,"Cena",null,"Orientační cena materialu",{"$nulls":3},"Tloušťka",null,"Délka = x",null,"Šířka = y"]
[null,"Plošný materiál",{"$nulls":5},{"$f":"IF($I$54>0,$F$11*($I$54*$U$1)+B10,\"\")","v":""},{"$nulls":3},{"v":18,"d":"18 mm"},null,{"v":2800,"d":"2,800 mm"},null,{"v":1220,"d":"1,220 mm"}]
[null,"ABS 0,5 mm",{"$nulls":5},{"$f":"IF($L$54>0,$F$12*$L$54,\"\")","v":""},{"$nulls":3},"cena řezání",{"$nulls":3},{"$f":"IF($H$54>0,$H$54*$U$4,\"\")","v":""},{"$nulls":3},"!!!   uvedené rozměry přířezů jsou před ohraněním   !!!"]
[null,"ABS 1 mm",{"$nulls":5},{"$f":"IF($N$54>0,$F$13*$N$54,\"\")","v":""},{"$nulls":3},"cena hranění",{"$nulls":3},{"$f":"IF($L$55>0,IF($L$11=0,\"\",IF(L11<23,$L$55*$U$5,IF(L11>22,$L$55*($U$5+5),\"\"))),\"\")","v":""}]
[null,"ABS 2 mm",{"$nulls":5},{"$f":"IF($P$54>0,$F$14*$P$54,\"\")","v":""},{"$nulls":4},"cena frézování / vrtání",null,null,{"$f":"SUM($AQ$18:$AQ$53,$AR$18:$AR$53,$AS$18:$AS$53)+L14","v":{"v":0,"d":"0 kč"}},{"$nulls":3},"►►►   UVEDENÉ ROZMĚRY PŘÍŘEZŮ JSOU VČETNĚ HRANY   ◄◄◄"]
[null,"Řezaní + Hranění",null,null,{"$f":"IF(B15=T18,T12,T14)","v":"►►►   UVEDENÉ ROZMĚRY PŘÍŘEZŮ JSOU VČETNĚ HRANY   ◄◄◄"},{"$nulls":14},false]
[null,"Číslo dílce","Název","Rozměry (mm)",null,null,"Počet ks","Řezání",null,"Drážka Falc Pant",null,"Umístění hran",{"$nulls":8},"Typ služby","typ frezovani","lepená hrana",null,null,"PODMÍNKY",{"$nulls":16},"PODMÍNKY"]
[{"$nulls":3},"X= po letech","x","Y= napříč let",null,"m.d.","m2",null,null,"ABS 0,5","bm","ABS 1","bm","ABS 2","bm",{"$nulls":8},"ABS 0,5",null,"ABS 1",null,"ABS 2",{"$nulls":12},"pant","drážka","falc"]
[null,1,null,null,{"$f":"IF($D18=\"\",\"\",1)","v":""},null,null,{"$f":"IF($I18>0,((($D18+$F18)*2)/1000)*$G18,\"\")","v":0},{"$f":"IF($G18>0,(($D18*$F18)/1000000)*$G18,\"\")","v":""},{"$nulls":3},{"$f":"IF($Z18>0,$Z18,(((($D18/1000)+prořez)*2)+((($F18/1000)+prořez)*2))*$G18)","v":""},null,{"$f":"IF($AB18>0,$AB18,(((($D18/1000)+prořez)*2)+((($F18/1000)+prořez)*2))*$G18)","v":""},null,{"$f":"IF($AD18>0,$AD18,(((($D18/1000)+prořez)*2)+((($F18/1000)+prořez)*2))*$G18)","v":""},null,null,"Řezání",null,"pant","X",null,null,{"$f":"IF(L18=\"X\",((($D18/1000)+prořez)*1)*$G18,IF(L18=\"Y\",((($F18/1000)+prořez)*1)*$G18,IF(L18=\"XX\",((($D18/1000)+prořez)*2)*$G18,IF(L18=\"YY\",((($F18/1000)+prořez)*2)*$G18,IF(L18=\"XY\",(((($D18/1000)+prořez))+(($F18/1000)+prořez))*$G18,IF(L18=\"XXY\",(((($D18/1000)+prořez)*2)+(($F18/1000)+prořez))*$G18,IF(L18=\"XYY\",(((($D18/1000)+prořez)+((($F18/1000)+prořez)*2)))*$G18,IF(L18=\"\",\"\",0))))))))","v":""},null,{"$f":"IF(N18=\"X\",((($D18/1000)+prořez)*1)*$G18,IF(N18=\"Y\",((($F18/1000)+prořez)*1)*$G18,IF(N18=\"XX\",((($D18/1000)+prořez)*2)*$G18,IF(N18=\"YY\",((($F18/1000)+prořez)*2)*$G18,IF(N18=\"XY\",(((($D18/1000)+prořez))+(($F18/1000)+prořez))*$G18,IF(N18=\"XXY\",(((($D18/1000)+prořez)*2)+(($F18/1000)+prořez))*$G18,IF(N18=\"XYY\",(((($D18/1000)+prořez)+((($F18/1000)+prořez)*2)))*$G18,IF(N18=\"\",\"\",0))))))))","v":""},null,{"$f":"IF(P18=\"X\",((($D18/1000)+prořez)*1)*$G18,IF(P18=\"Y\",((($F18/1000)+prořez)*1)*$G18,IF(P18=\"XX\",((($D18/1000)+prořez)*2)*$G18,IF(P18=\"YY\",((($F18/1000)+prořez)*2)*$G18,IF(P18=\"XY\",(((($D18/1000)+prořez))+(($F18/1000)+prořez))*$G18,IF(P18=\"XXY\",(((($D18/1000)+prořez)*2)+(($F18/1000)+prořez))*$G18,IF(P18=\"XYY\",(((($D18/1000)+prořez)+((($F18/1000)+prořez)*2)))*$G18,IF(P18=\"\",\"\",0))))))))","v":""},{"$nulls":12},{"$f":"IF($J18=\"pant\",(($U$6*2)*$G18),\"\")","v":""},{"$f":"IF($J18=\"drážka\",($U$7*$G18),\"\")","v":""},{"$f":"IF($J18=\"falc\",($U$8*$G18),\"\")","v":""}]
[null,{"$f":"$B18+1","v":2},null,null,{"$f":"IF($D19=\"\",\"\",1)","v":""},null,null,{"$f":"IF($I19>0,((($D19+$F19)*2)/1000)*$G19,\"\")","v":0},{"$f":"IF($G19>0,(($D19*$F19)/1000000)*$G19,\"\")","v":""},{"$nulls":3},"",null,"",null,"",null,null,"Řezaní + Hranění",null,"drážka","Y",null,null,{"$f":"IF(L19=\"X\",((($D19/1000)+prořez)*1)*$G19,IF(L19=\"Y\",((($F19/1000)+prořez)*1)*$G19,IF(L19=\"XX\",((($D19/1000)+prořez)*2)*$G19,IF(L19=\"YY\",((($F19/1000)+prořez)*2)*$G19,IF(L19=\"XY\",(((($D19/1000)+prořez))+(($F19/1000)+prořez))*$G19,IF(L19=\"XXY\",(((($D19/1000)+prořez)*2)+(($F19/1000)+prořez))*$G19,IF(L19=\"XYY\",(((($D19/1000)+prořez)+((($F19/1000)+prořez)*2)))*$G19,IF(L19=\"\",\"\",0))))))))","v":""},null,"",null,"",{"$nulls":12},{"$f":"IF($J19=\"pant\",(($U$6*2)*$G19),\"\")","v":""},{"$f":"IF($J19=\"drážka\",($U$7*$G19),\"\")","v":""},{"$f":"IF($J19=\"falc\",($U$8*$G19),\"\")","v":""}]
[null,{"$f":"$B19+1","v":3},null,null,{"$f":"IF($D20=\"\",\"\",1)","v":""},null,null,0,"",{"$nulls":3},"",null,"",null,"",{"$nulls":4},"falc","XY",null,null,"",null,"",null,"",{"$nulls":12},"","",""]
[null,4,null,null,"",null,null,0,"",{"$nulls":3},"",null,"",null,"",{"$nulls":5},"XX",null,null,"",null,"",null,"",{"$nulls":12},"","",""]
[null,5,null,null,"",null,null,0,"",{"$nulls":3},"",null,"",null,"",{"$nulls":5},"YY",null,null,"",null,"",null,"",{"$nulls":12},"","",""]
[null,6,null,null,"",null,null,0,"",{"$nulls":3},"",null,"",null,"",{"$nulls":5},"XXY",null,null,"",null,"",null,"",{"$nulls":12},"","",""]
[null,7,null,null,"",null,null,0,"",{"$nulls":3},"",null,"",null,"",{"$nulls":5},"XYY",null,null,"",null,"",null,"",{"$nulls":12},"","",""]
[null,8,null,null,"",null,null,0,"",{"$nulls":3},"",null,"",null,"",{"$nulls":5},"XXYY",null,null,"",null,"",null,"",{"$nulls":12},"","",""]
[null,9,null,null,"",null,null,0,"",{"$nulls":3},"",null,"",null,"",{"$nulls":8},"",null,"",null,"",{"$nulls":12},"","",""]
[null,10,null,null,"",null,null,0,"",{"$nulls":3},"",null,"",null,"",{"$nulls":8},"",null,"",null,"",{"$nulls":12},"","",""]
[null,11,null,null,"",null,null,0,"",{"$nulls":3},"",null,"",null,"",{"$nulls":8},"",null,"",null,"",{"$nulls":12},"","",""]
[null,12,null,null,"",null,null,0,"",{"$nulls":3},"",null,"",null,"",{"$nulls":8},"",null,"",null,"",{"$nulls":12},"","",""]
[null,13,null,null,"",null,null,0,"",{"$nulls":3},"",null,"",null,"",{"$nulls":8},"",null,"",null,"",{"$nulls":12},"","",""]
[null,14,null,null,"",null,null,0,"",{"$nulls":3},"",null,"",null,"",{"$nulls":8},"",null,"",null,"",{"$nulls":12},"","",""]
[null,15,null,null,"",null,null,0,"",{"$nulls":3},"",null,"",null,"",{"$nulls":8},"",null,"",null,"",{"$nulls":12},"","",""]
[null,16,null,null,"",null,null,0,"",{"$nulls":3},"",null,"",null,"",{"$nulls":8},"",null,"",null,"",{"$nulls":12},"","",""]
[null,17,null,null,"",null,null,0,"",{"$nulls":3},"",null,"",null,"",{"$nulls":8},"",null,"",null,"",{"$nulls":12},"","",""]
[null,18,null,null,"",null,null,0,"",{"$nulls":3},"",null,"",null,"",{"$nulls":8},"",null,"",null,"",{"$nulls":12},"","",""]
[null,19,null,null,"",null,null,0,"",{"$nulls":3},"",null,"",null,"",{"$nulls":8},"",null,"",null,"",{"$nulls":12},"","",""]
[null,20,null,null,"",null,null,0,"",{"$nulls":3},"",null,"",null,"",{"$nulls":8},"",null,"",null,"",{"$nulls":12},"","",""]
[null,21,null,null,"",null,null,0,"",{"$nulls":3},"",null,"",null,"",{"$nulls":8},"",null,"",null,"",{"$nulls":12},"","",""]
[null,22,null,null,"",null,null,0,"",{"$nulls":3},"",null,"",null,"",{"$nulls":8},"",null,"",null,"",{"$nulls":12},"","",""]
[null,23,null,null,"",null,null,0,"",{"$nulls":3},"",null,"",null,"",{"$nulls":8},"",null,"",null,"",{"$nulls":12},"","",""]
[null,24,null,null,"",null,null,0,"",{"$nulls":3},"",null,"",null,"",{"$nulls":8},"",null,"",null,"",{"$nulls":12},"","",""]
[null,25,null,null,"",null,null,0,"",{"$nulls":3},"",null,"",null,"",{"$nulls":8},"",null,"",null,"",{"$nulls":12},"","",""]
[null,26,null,null,"",null,null,0,"",{"$nulls":3},"",null,"",null,"",{"$nulls":8},"",null,"",null,"",{"$nulls":12},"","",""]
[null,27,null,null,"",null,null,0,"",{"$nulls":3},"",null,"",null,"",{"$nulls":8},"",null,"",null,"",{"$nulls":12},"","",""]
[null,28,null,null,"",null,null,0,"",{"$nulls":3},"",null,"",null,"",{"$nulls":8},"",null,"",null,"",{"$nulls":12},"","",""]
[null,29,null,null,"",null,null,0,"",{"$nulls":3},"",null,"",null,"",{"$nulls":8},"",null,"",null,"",{"$nulls":12},"","",""]
[null,30,null,null,"",null,null,0,"",{"$nulls":3},"",null,"",null,"",{"$nulls":8},"",null,"",null,"",{"$nulls":12},"","",""]
[null,31,null,null,"",null,null,0,"",{"$nulls":3},"",null,"",null,"",{"$nulls":8},"",null,"",null,"",{"$nulls":12},"","",""]
[null,32,null,null,"",null,null,0,"",{"$nulls":3},"",null,"",null,"",{"$nulls":8},"",null,"",null,"",{"$nulls":12},"","",""]
[null,33,null,null,"",null,null,0,"",{"$nulls":3},"",null,"",null,"",{"$nulls":8},"",null,"",null,"",{"$nulls":12},"","",""]
[null,34,null,null,"",null,null,0,"",{"$nulls":3},"",null,"",null,"",{"$nulls":8},"",null,"",null,"",{"$nulls":12},"","",""]
[null,35,null,null,"",null,null,0,"",{"$nulls":3},"",null,"",null,"",{"$nulls":8},"",null,"",null,"",{"$nulls":12},"","",""]
[null,36,null,null,"",null,null,0,{"$f":"IF($G53>0,(($D53*$F53)/1000000)*$G53,\"\")","v":""},{"$nulls":3},"",null,"",null,"",{"$nulls":8},"",null,"",null,"",{"$nulls":12},"","",""]
[{"$nulls":7},{"$f":"SUM(H18:H53)","v":{"v":0,"d":"0 m.d."}},{"$f":"SUM(I18:I53)","v":{"v":0,"d":"0.00 m2"}},null,null,{"$f":"SUM(M18:M53)","v":{"v":0,"d":"0 m.d."}},null,{"$f":"SUM(O18:O53)","v":{"v":0,"d":"0 m.d."}},null,{"$f":"SUM(Q18:Q53)","v":{"v":0,"d":"0 m.d."}},null,null,"přípočet",null,{"$f":"IF(#REF!=0,0,IF((U55-#REF!)>0.5,0,1))","v":{"$error":"#REF!"}},{"$f":"IF(L54=0,0,IF((V55-L54)>0.5,0,1))","v":0},{"$f":"IF(P54=0,0,IF((W55-P54)>0.5,0,1))","v":0},{"$f":"IF(N54=0,0,IF((X55-N54)>0.5,0,1))","v":0}]
[null,"počet desek se může navýšit po vypracování nářezového plánu",{"$nulls":6},{"$f":"T55","v":{"v":0,"d":"0 ks desek"}},null,null,{"$f":"CEILING(L54+N54+P54,1)","v":{"v":0,"d":"0 bm hranování"}},{"$nulls":6},"zaokrouhlení",{"$f":"CEILING((I54/U3)*U1,1)","v":0},{"$f":"CEILING(#REF!,1)","v":{"$error":"#REF!"}},{"$f":"CEILING(L54,1)","v":0},{"$f":"CEILING(P54,1)","v":0},{"$f":"CEILING(N54,1)","v":0}]
[{"$nulls":5},"Při větším objemu zakázky možnost individuální ceny, kontaktujte nás."]
[]
[]
[null,{"$f":"TODAY()","v":"2023-01-01"},{"$nulls":5},"Cena celkem",{"$nulls":3},{"$f":"SUM(H11:K14,P12:Q14)","v":{"v":0,"d":"0.00 kč bez DPH"}}]

{"sheet":"formátovací list","index":1,"n_rows":61,"n_cols":23,"rows_kept":61,"hidden":true,"merged":[[0,3,3,8],[3,9,3,10],[3,11,3,14],[5,5,5,7],[5,9,5,14],[6,0,6,2],[6,6,6,14],[7,0,7,2],[7,6,7,14],[8,0,8,2],[8,6,8,14],[9,3,9,8],[9,9,9,11],[10,0,10,2],[10,3,10,8],[10,9,10,11],[11,0,11,2],[11,3,11,8],[11,9,11,11],[11,12,13,14],[12,0,12,2],[12,3,12,8],[12,9,12,11],[13,0,13,2],[13,3,13,8],[13,9,13,11],[14,0,14,14],[15,0,16,0],[15,1,16,1],[15,2,16,2],[15,3,15,5],[15,8,16,8],[15,9,15,14],[57,1,57,2],[58,1,58,2],[58,3,58,6],[60,10,60,12],[60,13,63,14],[62,0,62,2],[62,11,62,12]]}
[{"$nulls":3},"FORMÁTOVACÍ LIST"]
[]
[]
[{"$nulls":9},{"$f":"Poptávka!#REF!","v":{"$error":"#REF!"}},null,{"$f":"Poptávka!L4","v":0}]
[]
[" Firma (obchodní jméno):",null,null," IČO:",null,{"$f":"Poptávka!H6","v":0},null,null," DIČ:",{"$f":"Poptávka!#REF!","v":{"$error":"#REF!"}}]
[{"$f":"Poptávka!B7","v":0},null,null," Kontaktní osoba:",null,null,{"$f":"Poptávka!I7","v":0}]
[" Ulice, Město:",null,null,"PSČ:",null,"Tel:",{"$f":"Poptávka!I8","v":0}]
[{"$f":"Poptávka!B9","v":0},null,null,{"$f":"Poptávka!D10","v":"Dekor"},null,"e-mail:",{"$f":"Poptávka!I9","v":0},{"$nulls":14},"$"]
[{"$nulls":9},"Tloušťka - Šířka (mm)",null,null,"délka","šířka"]
["plošný materiál",null,null,{"$f":"Poptávka!F11","v":0},{"$nulls":5},{"$f":"Poptávka!#REF!","v":{"$error":"#REF!"}},null,null,{"$f":"Poptávka!L11","v":18},{"$f":"Poptávka!P11","v":1220}]
["papírová hrana",null,null,{"$f":"Poptávka!#REF!","v":{"$error":"#REF!"}},{"$nulls":5},{"$f":"Poptávka!#REF!","v":{"$error":"#REF!"}},null,null,"minimální cena za ohranění je     50,-Kč za každý druh hrany"]
["ABS 0,5mm",null,null,{"$f":"Poptávka!F12","v":0},{"$nulls":5},{"$f":"Poptávka!#REF!","v":{"$error":"#REF!"}}]
["ABS 2mm",null,null,{"$f":"Poptávka!F14","v":0},{"$nulls":5},{"$f":"Poptávka!#REF!","v":{"$error":"#REF!"}}]
["!!! uvedené rozměry přířezů jsou před ohraněním !!!"]
["Díl","orientace","Stručný název","Rozměry bez hran (mm)",null,null,"Počet",null,"m2","Umístění hran"]
[{"$nulls":3},"A=po letech",null,"B=napříč let","ks",null,null,"PAP","bm","ABS 0,5","bm","ABS 2","bm"]
[1,{"$f":"Poptávka!#REF!","v":{"$error":"#REF!"}},{"$f":"Poptávka!#REF!","v":{"$error":"#REF!"}},{"$f":"Poptávka!D18-W18","v":0},null,{"$f":"Poptávka!F18-T18","v":0},{"$f":"Poptávka!G18","v":0},"KS",{"$f":"((D18*F18)/1000000)*G18","v":{"v":0,"d":"0.000"}},{"$f":"Poptávka!#REF!","v":{"$error":"#REF!"}},{"$f":"Poptávka!#REF!","v":{"$error":"#REF!"}},{"$f":"Poptávka!L18","v":0},{"$f":"Poptávka!M18","v":""},{"$f":"Poptávka!P18","v":0},{"$f":"Poptávka!Q18","v":""},null,null,{"$f":"IF(OR(OR(N18=\"A\",N18=\"AB\"),N18=\"ABB\"),2,0)","v":0},{"$f":"IF(OR(OR(N18=\"AA\",N18=\"AAB\"),N18=\"AABB\"),4,0)","v":0},{"$f":"IF(Poptávka!$T$15=TRUE,R18+S18,0)","v":0},{"$f":"IF(OR(OR(N18=\"B\",N18=\"AB\"),N18=\"AAB\"),2,0)","v":0},{"$f":"IF(OR(OR(N18=\"BB\",N18=\"ABB\"),N18=\"AABB\"),4,0)","v":0},{"$f":"IF(Poptávka!$T$15=TRUE,U18+V18,0)","v":0}]
[{"$f":"A18+1","v":2},{"$f":"Poptávka!#REF!","v":{"$error":"#REF!"}},{"$f":"Poptávka!#REF!","v":{"$error":"#REF!"}},{"$f":"Poptávka!D19-W19","v":0},null,{"$f":"Poptávka!F19-T19","v":0},{"$f":"Poptávka!G19","v":0},"KS",{"$f":"#N/A","v":{"$error":"#N/A"}},{"$f":"Poptávka!#REF!","v":{"$error":"#REF!"}},{"$f":"Poptávka!#REF!","v":{"$error":"#REF!"}},{"$f":"Poptávka!L19","v":0},{"$f":"Poptávka!M19","v":""},{"$f":"Poptávka!P19","v":0},{"$f":"Poptávka!Q19","v":""},null,null,{"$f":"#N/A","v":0},{"$f":"#N/A","v":0},{"$f":"IF(Poptávka!$T$15=TRUE,R19+S19,0)","v":0},{"$f":"#N/A","v":{"$error":"#N/A"}},{"$f":"#N/A","v":{"$error":"#N/A"}},{"$f":"IF(Poptávka!$T$15=TRUE,U19+V19,0)","v":0}]
[{"$f":"#N/A","v":3},{"$f":"Poptávka!#REF!","v":{"$error":"#REF!"}},{"$f":"Poptávka!#REF!","v":{"$error":"#REF!"}},{"$f":"Poptávka!D20-W20","v":0},null,{"$f":"Poptávka!F20-T20","v":0},{"$f":"Poptávka!G20","v":0},"KS",{"$f":"#N/A","v":{"$error":"#N/A"}},{"$f":"Poptávka!#REF!","v":{"$error":"#REF!"}},{"$f":"Poptávka!#REF!","v":{"$error":"#REF!"}},{"$f":"Poptávka!L20","v":0},{"$f":"Poptávka!M20","v":""},{"$f":"Poptávka!P20","v":0},{"$f":"Poptávka!Q20","v":""},null,null,{"$f":"#N/A","v":0},{"$f":"#N/A","v":0},{"$f":"IF(Poptávka!$T$15=TRUE,R20+S20,0)","v":0},{"$f":"#N/A","v":{"$error":"#N/A"}},{"$f":"#N/A","v":{"$error":"#N/A"}},{"$f":"IF(Poptávka!$T$15=TRUE,U20+V20,0)","v":0}]
[{"$f":"#N/A","v":4},{"$f":"Poptávka!#REF!","v":{"$error":"#REF!"}},{"$f":"Poptávka!#REF!","v":{"$error":"#REF!"}},{"$f":"Poptávka!D21-W21","v":0},null,{"$f":"Poptávka!F21-T21","v":0},{"$f":"Poptávka!G21","v":0},"KS",{"$f":"#N/A","v":{"$error":"#N/A"}},{"$f":"Poptávka!#REF!","v":{"$error":"#REF!"}},{"$f":"Poptávka!#REF!","v":{"$error":"#REF!"}},{"$f":"Poptávka!L21","v":0},{"$f":"Poptávka!M21","v":""},{"$f":"Poptávka!P21","v":0},{"$f":"Poptávka!Q21","v":""},null,null,{"$f":"#N/A","v":0},{"$f":"#N/A","v":0},{"$f":"IF(Poptávka!$T$15=TRUE,R21+S21,0)","v":0},{"$f":"#N/A","v":{"$error":"#N/A"}},{"$f":"#N/A","v":{"$error":"#N/A"}},{"$f":"IF(Poptávka!$T$15=TRUE,U21+V21,0)","v":0}]
[{"$f":"#N/A","v":5},{"$f":"Poptávka!#REF!","v":{"$error":"#REF!"}},{"$f":"Poptávka!#REF!","v":{"$error":"#REF!"}},{"$f":"Poptávka!D22-W22","v":0},null,{"$f":"Poptávka!F22-T22","v":0},{"$f":"Poptávka!G22","v":0},"KS",{"$f":"#N/A","v":{"$error":"#N/A"}},{"$f":"Poptávka!#REF!","v":{"$error":"#REF!"}},{"$f":"Poptávka!#REF!","v":{"$error":"#REF!"}},{"$f":"Poptávka!L22","v":0},{"$f":"Poptávka!M22","v":""},{"$f":"Poptávka!P22","v":0},{"$f":"Poptávka!Q22","v":""},null,null,{"$f":"#N/A","v":0},{"$f":"#N/A","v":0},{"$f":"IF(Poptávka!$T$15=TRUE,R22+S22,0)","v":0},{"$f":"#N/A","v":{"$error":"#N/A"}},{"$f":"#N/A","v":{"$error":"#N/A"}},{"$f":"IF(Poptávka!$T$15=TRUE,U22+V22,0)","v":0}]
[{"$f":"#N/A","v":6},{"$f":"Poptávka!#REF!","v":{"$error":"#REF!"}},{"$f":"Poptávka!#REF!","v":{"$error":"#REF!"}},{"$f":"Poptávka!D23-W23","v":0},null,{"$f":"Poptávka!F23-T23","v":0},{"$f":"Poptávka!G23","v":0},"KS",{"$f":"#N/A","v":{"$error":"#N/A"}},{"$f":"Poptávka!#REF!","v":{"$error":"#REF!"}},{"$f":"Poptávka!#REF!","v":{"$error":"#REF!"}},{"$f":"Poptávka!L23","v":0},{"$f":"Poptávka!M23","v":""},{"$f":"Poptávka!P23","v":0},{"$f":"Poptávka!Q23","v":""},null,null,{"$f":"#N/A","v":0},{"$f":"#N/A","v":0},{"$f":"IF(Poptávka!$T$15=TRUE,R23+S23,0)","v":0},{"$f":"#N/A","v":{"$error":"#N/A"}},{"$f":"#N/A","v":{"$error":"#N/A"}},{"$f":"IF(Poptávka!$T$15=TRUE,U23+V23,0)","v":0}]
[{"$f":"#N/A","v":7},{"$f":"Poptávka!#REF!","v":{"$error":"#REF!"}},{"$f":"Poptávka!#REF!","v":{"$error":"#REF!"}},{"$f":"Poptávka!D24-W24","v":0},null,{"$f":"Poptávka!F24-T24","v":0},{"$f":"Poptávka!G24","v":0},"KS",{"$f":"#N/A","v":{"$error":"#N/A"}},{"$f":"Poptávka!#REF!","v":{"$error":"#REF!"}},{"$f":"Poptávka!#REF!","v":{"$error":"#REF!"}},{"$f":"Poptávka!L24","v":0},{"$f":"Poptávka!M24","v":""},{"$f":"Poptávka!P24","v":0},{"$f":"Poptávka!Q24","v":""},null,null,{"$f":"#N/A","v":0},{"$f":"#N/A","v":0},{"$f":"IF(Poptávka!$T$15=TRUE,R24+S24,0)","v":0},{"$f":"#N/A","v":{"$error":"#N/A"}},{"$f":"#N/A","v":{"$error":"#N/A"}},{"$f":"IF(Poptávka!$T$15=TRUE,U24+V24,0)","v":0}]
[{"$f":"#N/A","v":8},{"$f":"Poptávka!#REF!","v":{"$error":"#REF!"}},{"$f":"Poptávka!#REF!","v":{"$error":"#REF!"}},{"$f":"Poptávka!D25-W25","v":0},null,{"$f":"Poptávka!F25-T25","v":0},{"$f":"Poptávka!G25","v":0},"KS",{"$f":"#N/A","v":{"$error":"#N/A"}},{"$f":"Poptávka!#REF!","v":{"$error":"#REF!"}},{"$f":"Poptávka!#REF!","v":{"$error":"#REF!"}},{"$f":"Poptávka!L25","v":0},{"$f":"Poptávka!M25","v":""},{"$f":"Poptávka!P25","v":0},{"$f":"Poptávka!Q25","v":""},null,null,{"$f":"#N/A","v":0},{"$f":"#N/A","v":0},{"$f":"IF(Poptávka!$T$15=TRUE,R25+S25,0)","v":0},{"$f":"#N/A","v":{"$error":"#N/A"}},{"$f":"#N/A","v":{"$error":"#N/A"}},{"$f":"IF(Poptávka!$T$15=TRUE,U25+V25,0)","v":0}]
[{"$f":"#N/A","v":9},{"$f":"Poptávka!#REF!","v":{"$error":"#REF!"}},{"$f":"Poptávka!#REF!","v":{"$error":"#REF!"}},{"$f":"Poptávka!D26-W26","v":0},null,{"$f":"Poptávka!F26-T26","v":0},{"$f":"Poptávka!G26","v":0},"KS",{"$f":"#N/A","v":{"$error":"#N/A"}},{"$f":"Poptávka!#REF!","v":{"$error":"#REF!"}},{"$f":"Poptávka!#REF!","v":{"$error":"#REF!"}},{"$f":"Poptávka!L26","v":0},{"$f":"Poptávka!M26","v":""},{"$f":"Poptávka!P26","v":0},{"$f":"Poptávka!Q26","v":""},null,null,{"$f":"#N/A","v":0},{"$f":"#N/A","v":0},{"$f":"IF(Poptávka!$T$15=TRUE,R26+S26,0)","v":0},{"$f":"#N/A","v":{"$error":"#N/A"}},{"$f":"#N/A","v":{"$error":"#N/A"}},{"$f":"IF(Poptávka!$T$15=TRUE,U26+V26,0)","v":0}]
[{"$f":"#N/A","v":10},{"$f":"Poptávka!#REF!","v":{"$error":"#REF!"}},{"$f":"Poptávka!#REF!","v":{"$error":"#REF!"}},{"$f":"Poptávka!D27-W27","v":0},null,{"$f":"Poptávka!F27-T27","v":0},{"$f":"Poptávka!G27","v":0},"KS",{"$f":"#N/A","v":{"$error":"#N/A"}},{"$f":"Poptávka!#REF!","v":{"$error":"#REF!"}},{"$f":"Poptávka!#REF!","v":{"$error":"#REF!"}},{"$f":"Poptávka!L27","v":0},{"$f":"Poptávka!M27","v":""},{"$f":"Poptávka!P27","v":0},{"$f":"Poptávka!Q27","v":""},null,null,{"$f":"#N/A","v":0},{"$f":"#N/A","v":0},{"$f":"IF(Poptávka!$T$15=TRUE,R27+S27,0)","v":0},{"$f":"#N/A","v":{"$error":"#N/A"}},{"$f":"#N/A","v":{"$error":"#N/A"}},{"$f":"IF(Poptávka!$T$15=TRUE,U27+V27,0)","v":0}]
[{"$f":"#N/A","v":11},{"$f":"Poptávka!#REF!","v":{"$error":"#REF!"}},{"$f":"Poptávka!#REF!","v":{"$error":"#REF!"}},{"$f":"Poptávka!D28-W28","v":0},null,{"$f":"Poptávka!F28-T28","v":0},{"$f":"Poptávka!G28","v":0},"KS",{"$f":"#N/A","v":{"$error":"#N/A"}},{"$f":"Poptávka!#REF!","v":{"$error":"#REF!"}},{"$f":"Poptávka!#REF!","v":{"$error":"#REF!"}},{"$f":"Poptávka!L28","v":0},{"$f":"Poptávka!M28","v":""},{"$f":"Poptávka!P28","v":0},{"$f":"Poptávka!Q28","v":""},null,null,{"$f":"#N/A","v":0},{"$f":"#N/A","v":0},{"$f":"IF(Poptávka!$T$15=TRUE,R28+S28,0)","v":0},{"$f":"#N/A","v":{"$error":"#N/A"}},{"$f":"#N/A","v":{"$error":"#N/A"}},{"$f":"IF(Poptávka!$T$15=TRUE,U28+V28,0)","v":0}]
[{"$f":"#N/A","v":12},{"$f":"Poptávka!#REF!","v":{"$error":"#REF!"}},{"$f":"Poptávka!#REF!","v":{"$error":"#REF!"}},{"$f":"Poptávka!D29-W29","v":0},null,{"$f":"Poptávka!F29-T29","v":0},{"$f":"Poptávka!G29","v":0},"KS",{"$f":"#N/A","v":{"$error":"#N/A"}},{"$f":"Poptávka!#REF!","v":{"$error":"#REF!"}},{"$f":"Poptávka!#REF!","v":{"$error":"#REF!"}},{"$f":"Poptávka!L29","v":0},{"$f":"Poptávka!M29","v":""},{"$f":"Poptávka!P29","v":0},{"$f":"Poptávka!Q29","v":""},null,null,{"$f":"#N/A","v":0},{"$f":"#N/A","v":0},{"$f":"IF(Poptávka!$T$15=TRUE,R29+S29,0)","v":0},{"$f":"#N/A","v":{"$error":"#N/A"}},{"$f":"#N/A","v":{"$error":"#N/A"}},{"$f":"IF(Poptávka!$T$15=TRUE,U29+V29,0)","v":0}]
[{"$f":"#N/A","v":13},{"$f":"Poptávka!#REF!","v":{"$error":"#REF!"}},{"$f":"Poptávka!#REF!","v":{"$error":"#REF!"}},{"$f":"Poptávka!D30-W30","v":0},null,{"$f":"Poptávka!F30-T30","v":0},{"$f":"Poptávka!G30","v":0},"KS",{"$f":"#N/A","v":{"$error":"#N/A"}},{"$f":"Poptávka!#REF!","v":{"$error":"#REF!"}},{"$f":"Poptávka!#REF!","v":{"$error":"#REF!"}},{"$f":"Poptávka!L30","v":0},{"$f":"Poptávka!M30","v":""},{"$f":"Poptávka!P30","v":0},{"$f":"Poptávka!Q30","v":""},null,null,{"$f":"#N/A","v":0},{"$f":"#N/A","v":0},{"$f":"IF(Poptávka!$T$15=TRUE,R30+S30,0)","v":0},{"$f":"#N/A","v":{"$error":"#N/A"}},{"$f":"#N/A","v":{"$error":"#N/A"}},{"$f":"IF(Poptávka!$T$15=TRUE,U30+V30,0)","v":0}]
[{"$f":"#N/A","v":14},{"$f":"Poptávka!#REF!","v":{"$error":"#REF!"}},{"$f":"Poptávka!#REF!","v":{"$error":"#REF!"}},{"$f":"Poptávka!D31-W31","v":0},null,{"$f":"Poptávka!F31-T31","v":0},{"$f":"Poptávka!G31","v":0},"KS",{"$f":"#N/A","v":{"$error":"#N/A"}},{"$f":"Poptávka!#REF!","v":{"$error":"#REF!"}},{"$f":"Poptávka!#REF!","v":{"$error":"#REF!"}},{"$f":"Poptávka!L31","v":0},{"$f":"Poptávka!M31","v":""},{"$f":"Poptávka!P31","v":0},{"$f":"Poptávka!Q31","v":""},null,null,{"$f":"#N/A","v":0},{"$f":"#N/A","v":0},{"$f":"IF(Poptávka!$T$15=TRUE,R31+S31,0)","v":0},{"$f":"#N/A","v":{"$error":"#N/A"}},{"$f":"#N/A","v":{"$error":"#N/A"}},{"$f":"IF(Poptávka!$T$15=TRUE,U31+V31,0)","v":0}]
[{"$f":"#N/A","v":15},{"$f":"Poptávka!#REF!","v":{"$error":"#REF!"}},{"$f":"Poptávka!#REF!","v":{"$error":"#REF!"}},{"$f":"Poptávka!D32-W32","v":0},null,{"$f":"Poptávka!F32-T32","v":0},{"$f":"Poptávka!G32","v":0},"KS",{"$f":"#N/A","v":{"$error":"#N/A"}},{"$f":"Poptávka!#REF!","v":{"$error":"#REF!"}},{"$f":"Poptávka!#REF!","v":{"$error":"#REF!"}},{"$f":"Poptávka!L32","v":0},{"$f":"Poptávka!M32","v":""},{"$f":"Poptávka!P32","v":0},{"$f":"Poptávka!Q32","v":""},null,null,{"$f":"#N/A","v":0},{"$f":"#N/A","v":0},{"$f":"IF(Poptávka!$T$15=TRUE,R32+S32,0)","v":0},{"$f":"#N/A","v":{"$error":"#N/A"}},{"$f":"#N/A","v":{"$error":"#N/A"}},{"$f":"IF(Poptávka!$T$15=TRUE,U32+V32,0)","v":0}]
[{"$f":"#N/A","v":16},{"$f":"Poptávka!#REF!","v":{"$error":"#REF!"}},{"$f":"Poptávka!#REF!","v":{"$error":"#REF!"}},{"$f":"Poptávka!#REF!-W33","v":{"$error":"#REF!"}},null,{"$f":"Poptávka!#REF!-T33","v":{"$error":"#REF!"}},{"$f":"Poptávka!#REF!","v":{"$error":"#REF!"}},"KS",{"$f":"#N/A","v":{"$error":"#N/A"}},{"$f":"Poptávka!#REF!","v":{"$error":"#REF!"}},{"$f":"Poptávka!#REF!","v":{"$error":"#REF!"}},{"$f":"Poptávka!#REF!","v":{"$error":"#REF!"}},{"$f":"Poptávka!#REF!","v":{"$error":"#REF!"}},{"$f":"Poptávka!#REF!","v":{"$error":"#REF!"}},{"$f":"Poptávka!#REF!","v":{"$error":"#REF!"}},null,null,{"$f":"#N/A","v":{"$error":"#REF!"}},{"$f":"#N/A","v":{"$error":"#REF!"}},{"$f":"IF(Poptávka!$T$15=TRUE,R33+S33,0)","v":0},{"$f":"#N/A","v":{"$error":"#N/A"}},{"$f":"#N/A","v":{"$error":"#N/A"}},{"$f":"IF(Poptávka!$T$15=TRUE,U33+V33,0)","v":0}]
[{"$f":"#N/A","v":17},{"$f":"Poptávka!#REF!","v":{"$error":"#REF!"}},{"$f":"Poptávka!#REF!","v":{"$error":"#REF!"}},{"$f":"Poptávka!#REF!-W34","v":{"$error":"#REF!"}},null,{"$f":"Poptávka!#REF!-T34","v":{"$error":"#REF!"}},{"$f":"Poptávka!#REF!","v":{"$error":"#REF!"}},"KS",{"$f":"#N/A","v":{"$error":"#N/A"}},{"$f":"Poptávka!#REF!","v":{"$error":"#REF!"}},{"$f":"Poptávka!#REF!","v":{"$error":"#REF!"}},{"$f":"Poptávka!#REF!","v":{"$error":"#REF!"}},{"$f":"Poptávka!#REF!","v":{"$error":"#REF!"}},{"$f":"Poptávka!#REF!","v":{"$error":"#REF!"}},{"$f":"Poptávka!#REF!","v":{"$error":"#REF!"}},null,null,{"$f":"#N/A","v":{"$error":"#REF!"}},{"$f":"#N/A","v":{"$error":"#REF!"}},{"$f":"IF(Poptávka!$T$15=TRUE,R34+S34,0)","v":0},{"$f":"#N/A","v":{"$error":"#N/A"}},{"$f":"#N/A","v":{"$error":"#N/A"}},{"$f":"IF(Poptávka!$T$15=TRUE,U34+V34,0)","v":0}]
[{"$f":"#N/A","v":18},{"$f":"Poptávka!#REF!","v":{"$error":"#REF!"}},{"$f":"Poptávka!#REF!","v":{"$error":"#REF!"}},{"$f":"Poptávka!#REF!-W35","v":{"$error":"#REF!"}},null,{"$f":"Poptávka!#REF!-T35","v":{"$error":"#REF!"}},{"$f":"Poptávka!#REF!","v":{"$error":"#REF!"}},"KS",{"$f":"#N/A","v":{"$error":"#N/A"}},{"$f":"Poptávka!#REF!","v":{"$error":"#REF!"}},{"$f":"Poptávka!#REF!","v":{"$error":"#REF!"}},{"$f":"Poptávka!#REF!","v":{"$error":"#REF!"}},{"$f":"Poptávka!#REF!","v":{"$error":"#REF!"}},{"$f":"Poptávka!#REF!","v":{"$error":"#REF!"}},{"$f":"Poptávka!#REF!","v":{"$error":"#REF!"}},null,null,{"$f":"#N/A","v":{"$error":"#REF!"}},{"$f":"#N/A","v":{"$error":"#REF!"}},{"$f":"IF(Poptávka!$T$15=TRUE,R35+S35,0)","v":0},{"$f":"#N/A","v":{"$error":"#N/A"}},{"$f":"#N/A","v":{"$error":"#N/A"}},{"$f":"IF(Poptávka!$T$15=TRUE,U35+V35,0)","v":0}]
[{"$f":"#N/A","v":19},{"$f":"Poptávka!#REF!","v":{"$error":"#REF!"}},{"$f":"Poptávka!#REF!","v":{"$error":"#REF!"}},{"$f":"Poptávka!#REF!-W36","v":{"$error":"#REF!"}},null,{"$f":"Poptávka!#REF!-T36","v":{"$error":"#REF!"}},{"$f":"Poptávka!#REF!","v":{"$error":"#REF!"}},"KS",{"$f":"#N/A","v":{"$error":"#N/A"}},{"$f":"Poptávka!#REF!","v":{"$error":"#REF!"}},{"$f":"Poptávka!#REF!","v":{"$error":"#REF!"}},{"$f":"Poptávka!#REF!","v":{"$error":"#REF!"}},{"$f":"Poptávka!#REF!","v":{"$error":"#REF!"}},{"$f":"Poptávka!#REF!","v":{"$error":"#REF!"}},{"$f":"Poptávka!#REF!","v":{"$error":"#REF!"}},null,null,{"$f":"#N/A","v":{"$error":"#REF!"}},{"$f":"#N/A","v":{"$error":"#REF!"}},{"$f":"IF(Poptávka!$T$15=TRUE,R36+S36,0)","v":0},{"$f":"#N/A","v":{"$error":"#N/A"}},{"$f":"#N/A","v":{"$error":"#N/A"}},{"$f":"IF(Poptávka!$T$15=TRUE,U36+V36,0)","v":0}]
[{"$f":"#N/A","v":20},{"$f":"Poptávka!#REF!","v":{"$error":"#REF!"}},{"$f":"Poptávka!#REF!","v":{"$error":"#REF!"}},{"$f":"Poptávka!#REF!-W37","v":{"$error":"#REF!"}},null,{"$f":"Poptávka!#REF!-T37","v":{"$error":"#REF!"}},{"$f":"Poptávka!#REF!","v":{"$error":"#REF!"}},"KS",{"$f":"#N/A","v":{"$error":"#N/A"}},{"$f":"Poptávka!#REF!","v":{"$error":"#REF!"}},{"$f":"Poptávka!#REF!","v":{"$error":"#REF!"}},{"$f":"Poptávka!#REF!","v":{"$error":"#REF!"}},{"$f":"Poptávka!#REF!","v":{"$error":"#REF!"}},{"$f":"Poptávka!#REF!","v":{"$error":"#REF!"}},{"$f":"Poptávka!#REF!","v":{"$error":"#REF!"}},null,null,{"$f":"#N/A","v":{"$error":"#REF!"}},{"$f":"#N/A","v":{"$error":"#REF!"}},{"$f":"IF(Poptávka!$T$15=TRUE,R37+S37,0)","v":0},{"$f":"#N/A","v":{"$error":"#N/A"}},{"$f":"#N/A","v":{"$error":"#N/A"}},{"$f":"IF(Poptávka!$T$15=TRUE,U37+V37,0)","v":0}]
[{"$f":"#N/A","v":21},{"$f":"Poptávka!#REF!","v":{"$error":"#REF!"}},{"$f":"Poptávka!#REF!","v":{"$error":"#REF!"}},{"$f":"Poptávka!#REF!-W38","v":{"$error":"#REF!"}},null,{"$f":"Poptávka!#REF!-T38","v":{"$error":"#REF!"}},{"$f":"Poptávka!#REF!","v":{"$error":"#REF!"}},"KS",{"$f":"#N/A","v":{"$error":"#N/A"}},{"$f":"Poptávka!#REF!","v":{"$error":"#REF!"}},{"$f":"Poptávka!#REF!","v":{"$error":"#REF!"}},{"$f":"Poptávka!#REF!","v":{"$error":"#REF!"}},{"$f":"Poptávka!#REF!","v":{"$error":"#REF!"}},{"$f":"Poptávka!#REF!","v":{"$error":"#REF!"}},{"$f":"Poptávka!#REF!","v":{"$error":"#REF!"}},null,null,{"$f":"#N/A","v":{"$error":"#REF!"}},{"$f":"#N/A","v":{"$error":"#REF!"}},{"$f":"IF(Poptávka!$T$15=TRUE,R38+S38,0)","v":0},{"$f":"#N/A","v":{"$error":"#N/A"}},{"$f":"#N/A","v":{"$error":"#N/A"}},{"$f":"IF(Poptávka!$T$15=TRUE,U38+V38,0)","v":0}]
[{"$f":"#N/A","v":22},{"$f":"Poptávka!#REF!","v":{"$error":"#REF!"}},{"$f":"Poptávka!#REF!","v":{"$error":"#REF!"}},{"$f":"Poptávka!#REF!-W39","v":{"$error":"#REF!"}},null,{"$f":"Poptávka!#REF!-T39","v":{"$error":"#REF!"}},{"$f":"Poptávka!#REF!","v":{"$error":"#REF!"}},"KS",{"$f":"#N/A","v":{"$error":"#N/A"}},{"$f":"Poptávka!#REF!","v":{"$error":"#REF!"}},{"$f":"Poptávka!#REF!","v":{"$error":"#REF!"}},{"$f":"Poptávka!#REF!","v":{"$error":"#REF!"}},{"$f":"Poptávka!#REF!","v":{"$error":"#REF!"}},{"$f":"Poptávka!#REF!","v":{"$error":"#REF!"}},{"$f":"Poptávka!#REF!","v":{"$error":"#REF!"}},null,null,{"$f":"#N/A","v":{"$error":"#REF!"}},{"$f":"#N/A","v":{"$error":"#REF!"}},{"$f":"IF(Poptávka!$T$15=TRUE,R39+S39,0)","v":0},{"$f":"#N/A","v":{"$error":"#N/A"}},{"$f":"#N/A","v":{"$error":"#N/A"}},{"$f":"IF(Poptávka!$T$15=TRUE,U39+V39,0)","v":0}]
[{"$f":"A39+1","v":23},{"$f":"Poptávka!#REF!","v":{"$error":"#REF!"}},{"$f":"Poptávka!#REF!","v":{"$error":"#REF!"}},{"$f":"Poptávka!#REF!-W40","v":{"$error":"#REF!"}},null,{"$f":"Poptávka!#REF!-T40","v":{"$error":"#REF!"}},{"$f":"Poptávka!#REF!","v":{"$error":"#REF!"}},"KS",{"$f":"#N/A","v":{"$error":"#N/A"}},{"$f":"Poptávka!#REF!","v":{"$error":"#REF!"}},{"$f":"Poptávka!#REF!","v":{"$error":"#REF!"}},{"$f":"Poptávka!#REF!","v":{"$error":"#REF!"}},{"$f":"Poptávka!#REF!","v":{"$error":"#REF!"}},{"$f":"Poptávka!#REF!","v":{"$error":"#REF!"}},{"$f":"Poptávka!#REF!","v":{"$error":"#REF!"}},null,null,{"$f":"#N/A","v":{"$error":"#REF!"}},{"$f":"#N/A","v":{"$error":"#REF!"}},{"$f":"IF(Poptávka!$T$15=TRUE,R40+S40,0)","v":0},{"$f":"#N/A","v":{"$error":"#N/A"}},{"$f":"#N/A","v":{"$error":"#N/A"}},{"$f":"IF(Poptávka!$T$15=TRUE,U40+V40,0)","v":0}]
[{"$f":"#N/A","v":24},{"$f":"Poptávka!#REF!","v":{"$error":"#REF!"}},{"$f":"Poptávka!#REF!","v":{"$error":"#REF!"}},{"$f":"Poptávka!#REF!-W41","v":{"$error":"#REF!"}},null,{"$f":"Poptávka!#REF!-T41","v":{"$error":"#REF!"}},{"$f":"Poptávka!#REF!","v":{"$error":"#REF!"}},"KS",{"$f":"#N/A","v":{"$error":"#N/A"}},{"$f":"Poptávka!#REF!","v":{"$error":"#REF!"}},{"$f":"Poptávka!#REF!","v":{"$error":"#REF!"}},{"$f":"Poptávka!#REF!","v":{"$error":"#REF!"}},{"$f":"Poptávka!#REF!","v":{"$error":"#REF!"}},{"$f":"Poptávka!#REF!","v":{"$error":"#REF!"}},{"$f":"Poptávka!#REF!","v":{"$error":"#REF!"}},null,null,{"$f":"#N/A","v":{"$error":"#REF!"}},{"$f":"#N/A","v":{"$error":"#REF!"}},{"$f":"IF(Poptávka!$T$15=TRUE,R41+S41,0)","v":0},{"$f":"#N/A","v":{"$error":"#N/A"}},{"$f":"#N/A","v":{"$error":"#N/A"}},{"$f":"IF(Poptávka!$T$15=TRUE,U41+V41,0)","v":0}]
[{"$f":"#N/A","v":25},{"$f":"Poptávka!#REF!","v":{"$error":"#REF!"}},{"$f":"Poptávka!#REF!","v":{"$error":"#REF!"}},{"$f":"Poptávka!#REF!-W42","v":{"$error":"#REF!"}},null,{"$f":"Poptávka!#REF!-T42","v":{"$error":"#REF!"}},{"$f":"Poptávka!#REF!","v":{"$error":"#REF!"}},"KS",{"$f":"#N/A","v":{"$error":"#N/A"}},{"$f":"Poptávka!#REF!","v":{"$error":"#REF!"}},{"$f":"Poptávka!#REF!","v":{"$error":"#REF!"}},{"$f":"Poptávka!#REF!","v":{"$error":"#REF!"}},{"$f":"Poptávka!#REF!","v":{"$error":"#REF!"}},{"$f":"Poptávka!#REF!","v":{"$error":"#REF!"}},{"$f":"Poptávka!#REF!","v":{"$error":"#REF!"}},null,null,{"$f":"#N/A","v":{"$error":"#REF!"}},{"$f":"#N/A","v":{"$error":"#REF!"}},{"$f":"IF(Poptávka!$T$15=TRUE,R42+S42,0)","v":0},{"$f":"#N/A","v":{"$error":"#N/A"}},{"$f":"#N/A","v":{"$error":"#N/A"}},{"$f":"IF(Poptávka!$T$15=TRUE,U42+V42,0)","v":0}]
[{"$f":"#N/A","v":26},{"$f":"Poptávka!#REF!","v":{"$error":"#REF!"}},{"$f":"Poptávka!#REF!","v":{"$error":"#REF!"}},{"$f":"Poptávka!#REF!-W43","v":{"$error":"#REF!"}},null,{"$f":"Poptávka!#REF!-T43","v":{"$error":"#REF!"}},{"$f":"Poptávka!#REF!","v":{"$error":"#REF!"}},"KS",{"$f":"#N/A","v":{"$error":"#N/A"}},{"$f":"Poptávka!#REF!","v":{"$error":"#REF!"}},{"$f":"Poptávka!#REF!","v":{"$error":"#REF!"}},{"$f":"Poptávka!#REF!","v":{"$error":"#REF!"}},{"$f":"Poptávka!#REF!","v":{"$error":"#REF!"}},{"$f":"Poptávka!#REF!","v":{"$error":"#REF!"}},{"$f":"Poptávka!#REF!","v":{"$error":"#REF!"}},null,null,{"$f":"#N/A","v":{"$error":"#REF!"}},{"$f":"#N/A","v":{"$error":"#REF!"}},{"$f":"IF(Poptávka!$T$15=TRUE,R43+S43,0)","v":0},{"$f":"#N/A","v":{"$error":"#N/A"}},{"$f":"#N/A","v":{"$error":"#N/A"}},{"$f":"IF(Poptávka!$T$15=TRUE,U43+V43,0)","v":0}]
[{"$f":"A43+1","v":27},{"$f":"Poptávka!#REF!","v":{"$error":"#REF!"}},{"$f":"Poptávka!#REF!","v":{"$error":"#REF!"}},{"$f":"Poptávka!#REF!-W44","v":{"$error":"#REF!"}},null,{"$f":"Poptávka!#REF!-T44","v":{"$error":"#REF!"}},{"$f":"Poptávka!#REF!","v":{"$error":"#REF!"}},"KS",{"$f":"#N/A","v":{"$error":"#N/A"}},{"$f":"Poptávka!#REF!","v":{"$error":"#REF!"}},{"$f":"Poptávka!#REF!","v":{"$error":"#REF!"}},{"$f":"Poptávka!#REF!","v":{"$error":"#REF!"}},{"$f":"Poptávka!#REF!","v":{"$error":"#REF!"}},{"$f":"Poptávka!#REF!","v":{"$error":"#REF!"}},{"$f":"Poptávka!#REF!","v":{"$error":"#REF!"}},null,null,{"$f":"#N/A","v":{"$error":"#REF!"}},{"$f":"#N/A","v":{"$error":"#REF!"}},{"$f":"IF(Poptávka!$T$15=TRUE,R44+S44,0)","v":0},{"$f":"#N/A","v":{"$error":"#N/A"}},{"$f":"#N/A","v":{"$error":"#N/A"}},{"$f":"IF(Poptávka!$T$15=TRUE,U44+V44,0)","v":0}]
[{"$f":"#N/A","v":28},{"$f":"Poptávka!#REF!","v":{"$error":"#REF!"}},{"$f":"Poptávka!#REF!","v":{"$error":"#REF!"}},{"$f":"Poptávka!#REF!-W45","v":{"$error":"#REF!"}},null,{"$f":"Poptávka!#REF!-T45","v":{"$error":"#REF!"}},{"$f":"Poptávka!#REF!","v":{"$error":"#REF!"}},"KS",{"$f":"#N/A","v":{"$error":"#N/A"}},{"$f":"Poptávka!#REF!","v":{"$error":"#REF!"}},{"$f":"Poptávka!#REF!","v":{"$error":"#REF!"}},{"$f":"Poptávka!#REF!","v":{"$error":"#REF!"}},{"$f":"Poptávka!#REF!","v":{"$error":"#REF!"}},{"$f":"Poptávka!#REF!","v":{"$error":"#REF!"}},{"$f":"Poptávka!#REF!","v":{"$error":"#REF!"}},null,null,{"$f":"#N/A","v":{"$error":"#REF!"}},{"$f":"#N/A","v":{"$error":"#REF!"}},{"$f":"IF(Poptávka!$T$15=TRUE,R45+S45,0)","v":0},{"$f":"#N/A","v":{"$error":"#N/A"}},{"$f":"#N/A","v":{"$error":"#N/A"}},{"$f":"IF(Poptávka!$T$15=TRUE,U45+V45,0)","v":0}]
[{"$f":"#N/A","v":29},{"$f":"Poptávka!#REF!","v":{"$error":"#REF!"}},{"$f":"Poptávka!#REF!","v":{"$error":"#REF!"}},{"$f":"Poptávka!#REF!-W46","v":{"$error":"#REF!"}},null,{"$f":"Poptávka!#REF!-T46","v":{"$error":"#REF!"}},{"$f":"Poptávka!#REF!","v":{"$error":"#REF!"}},"KS",{"$f":"#N/A","v":{"$error":"#N/A"}},{"$f":"Poptávka!#REF!","v":{"$error":"#REF!"}},{"$f":"Poptávka!#REF!","v":{"$error":"#REF!"}},{"$f":"Poptávka!#REF!","v":{"$error":"#REF!"}},{"$f":"Poptávka!#REF!","v":{"$error":"#REF!"}},{"$f":"Poptávka!#REF!","v":{"$error":"#REF!"}},{"$f":"Poptávka!#REF!","v":{"$error":"#REF!"}},null,null,{"$f":"#N/A","v":{"$error":"#REF!"}},{"$f":"#N/A","v":{"$error":"#REF!"}},{"$f":"IF(Poptávka!$T$15=TRUE,R46+S46,0)","v":0},{"$f":"#N/A","v":{"$error":"#N/A"}},{"$f":"#N/A","v":{"$error":"#N/A"}},{"$f":"IF(Poptávka!$T$15=TRUE,U46+V46,0)","v":0}]
[{"$f":"#N/A","v":30},{"$f":"Poptávka!#REF!","v":{"$error":"#REF!"}},{"$f":"Poptávka!#REF!","v":{"$error":"#REF!"}},{"$f":"Poptávka!#REF!-W47","v":{"$error":"#REF!"}},null,{"$f":"Poptávka!#REF!-T47","v":{"$error":"#REF!"}},{"$f":"Poptávka!#REF!","v":{"$error":"#REF!"}},"KS",{"$f":"#N/A","v":{"$error":"#N/A"}},{"$f":"Poptávka!#REF!","v":{"$error":"#REF!"}},{"$f":"Poptávka!#REF!","v":{"$error":"#REF!"}},{"$f":"Poptávka!#REF!","v":{"$error":"#REF!"}},{"$f":"Poptávka!#REF!","v":{"$error":"#REF!"}},{"$f":"Poptávka!#REF!","v":{"$error":"#REF!"}},{"$f":"Poptávka!#REF!","v":{"$error":"#REF!"}},null,null,{"$f":"#N/A","v":{"$error":"#REF!"}},{"$f":"#N/A","v":{"$error":"#REF!"}},{"$f":"IF(Poptávka!$T$15=TRUE,R47+S47,0)","v":0},{"$f":"#N/A","v":{"$error":"#N/A"}},{"$f":"#N/A","v":{"$error":"#N/A"}},{"$f":"IF(Poptávka!$T$15=TRUE,U47+V47,0)","v":0}]
[{"$f":"A47+1","v":31},{"$f":"Poptávka!#REF!","v":{"$error":"#REF!"}},{"$f":"Poptávka!#REF!","v":{"$error":"#REF!"}},{"$f":"Poptávka!#REF!-W48","v":{"$error":"#REF!"}},null,{"$f":"Poptávka!#REF!-T48","v":{"$error":"#REF!"}},{"$f":"Poptávka!#REF!","v":{"$error":"#REF!"}},"KS",{"$f":"#N/A","v":{"$error":"#N/A"}},{"$f":"Poptávka!#REF!","v":{"$error":"#REF!"}},{"$f":"Poptávka!#REF!","v":{"$error":"#REF!"}},{"$f":"Poptávka!#REF!","v":{"$error":"#REF!"}},{"$f":"Poptávka!#REF!","v":{"$error":"#REF!"}},{"$f":"Poptávka!#REF!","v":{"$error":"#REF!"}},{"$f":"Poptávka!#REF!","v":{"$error":"#REF!"}},null,null,{"$f":"#N/A","v":{"$error":"#REF!"}},{"$f":"#N/A","v":{"$error":"#REF!"}},{"$f":"IF(Poptávka!$T$15=TRUE,R48+S48,0)","v":0},{"$f":"#N/A","v":{"$error":"#N/A"}},{"$f":"#N/A","v":{"$error":"#N/A"}},{"$f":"IF(Poptávka!$T$15=TRUE,U48+V48,0)","v":0}]
[{"$f":"#N/A","v":32},{"$f":"Poptávka!#REF!","v":{"$error":"#REF!"}},{"$f":"Poptávka!#REF!","v":{"$error":"#REF!"}},{"$f":"Poptávka!#REF!-W49","v":{"$error":"#REF!"}},null,{"$f":"Poptávka!#REF!-T49","v":{"$error":"#REF!"}},{"$f":"Poptávka!#REF!","v":{"$error":"#REF!"}},"KS",{"$f":"#N/A","v":{"$error":"#N/A"}},{"$f":"Poptávka!#REF!","v":{"$error":"#REF!"}},{"$f":"Poptávka!#REF!","v":{"$error":"#REF!"}},{"$f":"Poptávka!#REF!","v":{"$error":"#REF!"}},{"$f":"Poptávka!#REF!","v":{"$error":"#REF!"}},{"$f":"Poptávka!#REF!","v":{"$error":"#REF!"}},{"$f":"Poptávka!#REF!","v":{"$error":"#REF!"}},null,null,{"$f":"#N/A","v":{"$error":"#REF!"}},{"$f":"#N/A","v":{"$error":"#REF!"}},{"$f":"IF(Poptávka!$T$15=TRUE,R49+S49,0)","v":0},{"$f":"#N/A","v":{"$error":"#N/A"}},{"$f":"#N/A","v":{"$error":"#N/A"}},{"$f":"IF(Poptávka!$T$15=TRUE,U49+V49,0)","v":0}]
[{"$f":"#N/A","v":33},{"$f":"Poptávka!#REF!","v":{"$error":"#REF!"}},{"$f":"Poptávka!#REF!","v":{"$error":"#REF!"}},{"$f":"Poptávka!#REF!-W50","v":{"$error":"#REF!"}},null,{"$f":"Poptávka!#REF!-T50","v":{"$error":"#REF!"}},{"$f":"Poptávka!#REF!","v":{"$error":"#REF!"}},"KS",{"$f":"#N/A","v":{"$error":"#N/A"}},{"$f":"Poptávka!#REF!","v":{"$error":"#REF!"}},{"$f":"Poptávka!#REF!","v":{"$error":"#REF!"}},{"$f":"Poptávka!#REF!","v":{"$error":"#REF!"}},{"$f":"Poptávka!#REF!","v":{"$error":"#REF!"}},{"$f":"Poptávka!#REF!","v":{"$error":"#REF!"}},{"$f":"Poptávka!#REF!","v":{"$error":"#REF!"}},null,null,{"$f":"#N/A","v":{"$error":"#REF!"}},{"$f":"#N/A","v":{"$error":"#REF!"}},{"$f":"IF(Poptávka!$T$15=TRUE,R50+S50,0)","v":0},{"$f":"#N/A","v":{"$error":"#N/A"}},{"$f":"#N/A","v":{"$error":"#N/A"}},{"$f":"IF(Poptávka!$T$15=TRUE,U50+V50,0)","v":0}]
[{"$f":"#N/A","v":34},{"$f":"Poptávka!#REF!","v":{"$error":"#REF!"}},{"$f":"Poptávka!#REF!","v":{"$error":"#REF!"}},{"$f":"Poptávka!#REF!-W51","v":{"$error":"#REF!"}},null,{"$f":"Poptávka!#REF!-T51","v":{"$error":"#REF!"}},{"$f":"Poptávka!#REF!","v":{"$error":"#REF!"}},"KS",{"$f":"#N/A","v":{"$error":"#N/A"}},{"$f":"Poptávka!#REF!","v":{"$error":"#REF!"}},{"$f":"Poptávka!#REF!","v":{"$error":"#REF!"}},{"$f":"Poptávka!#REF!","v":{"$error":"#REF!"}},{"$f":"Poptávka!#REF!","v":{"$error":"#REF!"}},{"$f":"Poptávka!#REF!","v":{"$error":"#REF!"}},{"$f":"Poptávka!#REF!","v":{"$error":"#REF!"}},null,null,{"$f":"#N/A","v":{"$error":"#REF!"}},{"$f":"#N/A","v":{"$error":"#REF!"}},{"$f":"IF(Poptávka!$T$15=TRUE,R51+S51,0)","v":0},{"$f":"#N/A","v":{"$error":"#N/A"}},{"$f":"#N/A","v":{"$error":"#N/A"}},{"$f":"IF(Poptávka!$T$15=TRUE,U51+V51,0)","v":0}]
[{"$f":"#N/A","v":35},{"$f":"Poptávka!#REF!","v":{"$error":"#REF!"}},{"$f":"Poptávka!#REF!","v":{"$error":"#REF!"}},{"$f":"Poptávka!#REF!-W52","v":{"$error":"#REF!"}},null,{"$f":"Poptávka!#REF!-T52","v":{"$error":"#REF!"}},{"$f":"Poptávka!#REF!","v":{"$error":"#REF!"}},"KS",{"$f":"#N/A","v":{"$error":"#N/A"}},{"$f":"Poptávka!#REF!","v":{"$error":"#REF!"}},{"$f":"Poptávka!#REF!","v":{"$error":"#REF!"}},{"$f":"Poptávka!#REF!","v":{"$error":"#REF!"}},{"$f":"Poptávka!#REF!","v":{"$error":"#REF!"}},{"$f":"Poptávka!#REF!","v":{"$error":"#REF!"}},{"$f":"Poptávka!#REF!","v":{"$error":"#REF!"}},null,null,{"$f":"#N/A","v":{"$error":"#REF!"}},{"$f":"#N/A","v":{"$error":"#REF!"}},{"$f":"IF(Poptávka!$T$15=TRUE,R52+S52,0)","v":0},{"$f":"#N/A","v":{"$error":"#N/A"}},{"$f":"#N/A","v":{"$error":"#N/A"}},{"$f":"IF(Poptávka!$T$15=TRUE,U52+V52,0)","v":0}]
[{"$f":"#N/A","v":36},{"$f":"Poptávka!#REF!","v":{"$error":"#REF!"}},{"$f":"Poptávka!#REF!","v":{"$error":"#REF!"}},{"$f":"Poptávka!#REF!-W53","v":{"$error":"#REF!"}},null,{"$f":"Poptávka!#REF!-T53","v":{"$error":"#REF!"}},{"$f":"Poptávka!#REF!","v":{"$error":"#REF!"}},"KS",{"$f":"#N/A","v":{"$error":"#N/A"}},{"$f":"Poptávka!#REF!","v":{"$error":"#REF!"}},{"$f":"Poptávka!#REF!","v":{"$error":"#REF!"}},{"$f":"Poptávka!#REF!","v":{"$error":"#REF!"}},{"$f":"Poptávka!#REF!","v":{"$error":"#REF!"}},{"$f":"Poptávka!#REF!","v":{"$error":"#REF!"}},{"$f":"Poptávka!#REF!","v":{"$error":"#REF!"}},null,null,{"$f":"#N/A","v":{"$error":"#REF!"}},{"$f":"#N/A","v":{"$error":"#REF!"}},{"$f":"IF(Poptávka!$T$15=TRUE,R53+S53,0)","v":0},{"$f":"#N/A","v":{"$error":"#N/A"}},{"$f":"#N/A","v":{"$error":"#N/A"}},{"$f":"IF(Poptávka!$T$15=TRUE,U53+V53,0)","v":0}]
[{"$f":"#N/A","v":37},{"$f":"Poptávka!#REF!","v":{"$error":"#REF!"}},{"$f":"Poptávka!#REF!","v":{"$error":"#REF!"}},{"$f":"Poptávka!#REF!-W54","v":{"$error":"#REF!"}},null,{"$f":"Poptávka!#REF!-T54","v":{"$error":"#REF!"}},{"$f":"Poptávka!#REF!","v":{"$error":"#REF!"}},"KS",{"$f":"#N/A","v":{"$error":"#N/A"}},{"$f":"Poptávka!#REF!","v":{"$error":"#REF!"}},{"$f":"Poptávka!#REF!","v":{"$error":"#REF!"}},{"$f":"Poptávka!#REF!","v":{"$error":"#REF!"}},{"$f":"Poptávka!#REF!","v":{"$error":"#REF!"}},{"$f":"Poptávka!#REF!","v":{"$error":"#REF!"}},{"$f":"Poptávka!#REF!","v":{"$error":"#REF!"}},null,null,{"$f":"#N/A","v":{"$error":"#REF!"}},{"$f":"#N/A","v":{"$error":"#REF!"}},{"$f":"IF(Poptávka!$T$15=TRUE,R54+S54,0)","v":0},{"$f":"#N/A","v":{"$error":"#N/A"}},{"$f":"#N/A","v":{"$error":"#N/A"}},{"$f":"IF(Poptávka!$T$15=TRUE,U54+V54,0)","v":0}]
[{"$f":"#N/A","v":38},{"$f":"Poptávka!#REF!","v":{"$error":"#REF!"}},{"$f":"Poptávka!#REF!","v":{"$error":"#REF!"}},{"$f":"Poptávka!#REF!-W55","v":{"$error":"#REF!"}},null,{"$f":"Poptávka!#REF!-T55","v":{"$error":"#REF!"}},{"$f":"Poptávka!#REF!","v":{"$error":"#REF!"}},"KS",{"$f":"#N/A","v":{"$error":"#N/A"}},{"$f":"Poptávka!#REF!","v":{"$error":"#REF!"}},{"$f":"Poptávka!#REF!","v":{"$error":"#REF!"}},{"$f":"Poptávka!#REF!","v":{"$error":"#REF!"}},{"$f":"Poptávka!#REF!","v":{"$error":"#REF!"}},{"$f":"Poptávka!#REF!","v":{"$error":"#REF!"}},{"$f":"Poptávka!#REF!","v":{"$error":"#REF!"}},null,null,{"$f":"#N/A","v":{"$error":"#REF!"}},{"$f":"#N/A","v":{"$error":"#REF!"}},{"$f":"IF(Poptávka!$T$15=TRUE,R55+S55,0)","v":0},{"$f":"#N/A","v":{"$error":"#N/A"}},{"$f":"#N/A","v":{"$error":"#N/A"}},{"$f":"IF(Poptávka!$T$15=TRUE,U55+V55,0)","v":0}]
[{"$f":"#N/A","v":39},{"$f":"Poptávka!#REF!","v":{"$error":"#REF!"}},{"$f":"Poptávka!#REF!","v":{"$error":"#REF!"}},{"$f":"Poptávka!#REF!-W56","v":{"$error":"#REF!"}},null,{"$f":"Poptávka!#REF!-T56","v":{"$error":"#REF!"}},{"$f":"Poptávka!#REF!","v":{"$error":"#REF!"}},"KS",{"$f":"#N/A","v":{"$error":"#N/A"}},{"$f":"Poptávka!#REF!","v":{"$error":"#REF!"}},{"$f":"Poptávka!#REF!","v":{"$error":"#REF!"}},{"$f":"Poptávka!#REF!","v":{"$error":"#REF!"}},{"$f":"Poptávka!#REF!","v":{"$error":"#REF!"}},{"$f":"Poptávka!#REF!","v":{"$error":"#REF!"}},{"$f":"Poptávka!#REF!","v":{"$error":"#REF!"}},null,null,{"$f":"#N/A","v":{"$error":"#REF!"}},{"$f":"#N/A","v":{"$error":"#REF!"}},{"$f":"IF(Poptávka!$T$15=TRUE,R56+S56,0)","v":0},{"$f":"#N/A","v":{"$error":"#N/A"}},{"$f":"#N/A","v":{"$error":"#N/A"}},{"$f":"IF(Poptávka!$T$15=TRUE,U56+V56,0)","v":0}]
[{"$f":"#N/A","v":40},{"$f":"Poptávka!#REF!","v":{"$error":"#REF!"}},{"$f":"Poptávka!#REF!","v":{"$error":"#REF!"}},{"$f":"Poptávka!#REF!-W57","v":{"$error":"#REF!"}},null,{"$f":"Poptávka!#REF!-T57","v":{"$error":"#REF!"}},{"$f":"Poptávka!#REF!","v":{"$error":"#REF!"}},"KS",{"$f":"#N/A","v":{"$error":"#N/A"}},{"$f":"Poptávka!#REF!","v":{"$error":"#REF!"}},{"$f":"Poptávka!#REF!","v":{"$error":"#REF!"}},{"$f":"Poptávka!#REF!","v":{"$error":"#REF!"}},{"$f":"Poptávka!#REF!","v":{"$error":"#REF!"}},{"$f":"Poptávka!#REF!","v":{"$error":"#REF!"}},{"$f":"Poptávka!#REF!","v":{"$error":"#REF!"}},null,null,{"$f":"#N/A","v":{"$error":"#REF!"}},{"$f":"#N/A","v":{"$error":"#REF!"}},{"$f":"IF(Poptávka!$T$15=TRUE,R57+S57,0)","v":0},{"$f":"#N/A","v":{"$error":"#N/A"}},{"$f":"#N/A","v":{"$error":"#N/A"}},{"$f":"IF(Poptávka!$T$15=TRUE,U57+V57,0)","v":0}]
[null,"CELKEM",null,{"$f":"Poptávka!#REF!","v":{"$error":"#REF!"}},null,"celkem:",{"$f":"Poptávka!#REF!","v":{"$error":"#REF!"}},null,{"$f":"Poptávka!I54","v":{"v":0,"d":"0.00"}},"m2",{"$f":"Poptávka!#REF!","v":{"$error":"#REF!"}},"< bm >",{"$f":"Poptávka!L54","v":{"v":0,"d":"0.00"}},"< bm >",{"$f":"Poptávka!P54","v":{"v":0,"d":"0.00"}},{"$nulls":3},{"$f":"IF(K58=0,0,IF((S59-K58)>0.5,0,1))","v":{"$error":"#REF!"}},{"$f":"IF(M58=0,0,IF((T59-M58)>0.5,0,1))","v":0}]
[null,"celkem podle skutečnosti",null,"počet desek se může navýšit po vypracování nářezového plánu",{"$nulls":4},{"$f":"Poptávka!I55","v":0},{"$f":"Poptávka!#REF!","v":{"$error":"#REF!"}},{"$f":"Poptávka!#REF!","v":{"$error":"#REF!"}},"< bm >",{"$f":"Poptávka!L55","v":0},"< bm >",{"$f":"Poptávka!P55","v":0},{"$nulls":3},{"$f":"CEILING(K58,1)","v":{"$error":"#REF!"}},{"$f":"CEILING(M58,1)","v":0}]
[]
["Datum:",null,"…………………….."]

{"sheet":"export","index":2,"n_rows":40,"n_cols":5,"rows_kept":40,"hidden":true}
[{"$f":"IF(AND(Poptávka!#REF!=\"\",Poptávka!G18>0),Poptávka!B18,Poptávka!#REF!)","v":{"$error":"#REF!"}},{"$f":"'formátovací list'!F18","v":0},{"$f":"'formátovací list'!D18","v":0},{"$f":"IF('formátovací list'!B18=\" \",\"\",IF('formátovací list'!B18=1,\"Y\",\"N\"))","v":{"$error":"#REF!"}},{"$f":"'formátovací list'!G18","v":0}]
[{"$f":"IF(AND(Poptávka!#REF!=\"\",Poptávka!G19>0),Poptávka!B19,Poptávka!#REF!)","v":{"$error":"#REF!"}},{"$f":"'formátovací list'!F19","v":0},{"$f":"'formátovací list'!D19","v":0},{"$f":"IF('formátovací list'!B19=\" \",\"\",IF('formátovací list'!B19=1,\"Y\",\"N\"))","v":{"$error":"#REF!"}},{"$f":"'formátovací list'!G19","v":0}]
[{"$f":"IF(AND(Poptávka!#REF!=\"\",Poptávka!G20>0),Poptávka!B20,Poptávka!#REF!)","v":{"$error":"#REF!"}},{"$f":"'formátovací list'!F20","v":0},{"$f":"'formátovací list'!D20","v":0},{"$f":"IF('formátovací list'!B20=\" \",\"\",IF('formátovací list'!B20=1,\"Y\",\"N\"))","v":{"$error":"#REF!"}},{"$f":"'formátovací list'!G20","v":0}]
[{"$f":"IF(AND(Poptávka!#REF!=\"\",Poptávka!G21>0),Poptávka!B21,Poptávka!#REF!)","v":{"$error":"#REF!"}},{"$f":"'formátovací list'!F21","v":0},{"$f":"'formátovací list'!D21","v":0},{"$f":"IF('formátovací list'!B21=\" \",\"\",IF('formátovací list'!B21=1,\"Y\",\"N\"))","v":{"$error":"#REF!"}},{"$f":"'formátovací list'!G21","v":0}]
[{"$f":"IF(AND(Poptávka!#REF!=\"\",Poptávka!G22>0),Poptávka!B22,Poptávka!#REF!)","v":{"$error":"#REF!"}},{"$f":"'formátovací list'!F22","v":0},{"$f":"'formátovací list'!D22","v":0},{"$f":"IF('formátovací list'!B22=\" \",\"\",IF('formátovací list'!B22=1,\"Y\",\"N\"))","v":{"$error":"#REF!"}},{"$f":"'formátovací list'!G22","v":0}]
[{"$f":"IF(AND(Poptávka!#REF!=\"\",Poptávka!G23>0),Poptávka!B23,Poptávka!#REF!)","v":{"$error":"#REF!"}},{"$f":"'formátovací list'!F23","v":0},{"$f":"'formátovací list'!D23","v":0},{"$f":"IF('formátovací list'!B23=\" \",\"\",IF('formátovací list'!B23=1,\"Y\",\"N\"))","v":{"$error":"#REF!"}},{"$f":"'formátovací list'!G23","v":0}]
[{"$f":"IF(AND(Poptávka!#REF!=\"\",Poptávka!G24>0),Poptávka!B24,Poptávka!#REF!)","v":{"$error":"#REF!"}},{"$f":"'formátovací list'!F24","v":0},{"$f":"'formátovací list'!D24","v":0},{"$f":"IF('formátovací list'!B24=\" \",\"\",IF('formátovací list'!B24=1,\"Y\",\"N\"))","v":{"$error":"#REF!"}},{"$f":"'formátovací list'!G24","v":0}]
[{"$f":"IF(AND(Poptávka!#REF!=\"\",Poptávka!G25>0),Poptávka!B25,Poptávka!#REF!)","v":{"$error":"#REF!"}},{"$f":"'formátovací list'!F25","v":0},{"$f":"'formátovací list'!D25","v":0},{"$f":"IF('formátovací list'!B25=\" \",\"\",IF('formátovací list'!B25=1,\"Y\",\"N\"))","v":{"$error":"#REF!"}},{"$f":"'formátovací list'!G25","v":0}]
[{"$f":"IF(AND(Poptávka!#REF!=\"\",Poptávka!G26>0),Poptávka!B26,Poptávka!#REF!)","v":{"$error":"#REF!"}},{"$f":"'formátovací list'!F26","v":0},{"$f":"'formátovací list'!D26","v":0},{"$f":"IF('formátovací list'!B26=\" \",\"\",IF('formátovací list'!B26=1,\"Y\",\"N\"))","v":{"$error":"#REF!"}},{"$f":"'formátovací list'!G26","v":0}]
[{"$f":"IF(AND(Poptávka!#REF!=\"\",Poptávka!G27>0),Poptávka!B27,Poptávka!#REF!)","v":{"$error":"#REF!"}},{"$f":"'formátovací list'!F27","v":0},{"$f":"'formátovací list'!D27","v":0},{"$f":"IF('formátovací list'!B27=\" \",\"\",IF('formátovací list'!B27=1,\"Y\",\"N\"))","v":{"$error":"#REF!"}},{"$f":"'formátovací list'!G27","v":0}]
[{"$f":"IF(AND(Poptávka!#REF!=\"\",Poptávka!G28>0),Poptávka!B28,Poptávka!#REF!)","v":{"$error":"#REF!"}},{"$f":"'formátovací list'!F28","v":0},{"$f":"'formátovací list'!D28","v":0},{"$f":"IF('formátovací list'!B28=\" \",\"\",IF('formátovací list'!B28=1,\"Y\",\"N\"))","v":{"$error":"#REF!"}},{"$f":"'formátovací list'!G28","v":0}]
[{"$f":"IF(AND(Poptávka!#REF!=\"\",Poptávka!G29>0),Poptávka!B29,Poptávka!#REF!)","v":{"$error":"#REF!"}},{"$f":"'formátovací list'!F29","v":0},{"$f":"'formátovací list'!D29","v":0},{"$f":"IF('formátovací list'!B29=\" \",\"\",IF('formátovací list'!B29=1,\"Y\",\"N\"))","v":{"$error":"#REF!"}},{"$f":"'formátovací list'!G29","v":0}]
[{"$f":"IF(AND(Poptávka!#REF!=\"\",Poptávka!G30>0),Poptávka!B30,Poptávka!#REF!)","v":{"$error":"#REF!"}},{"$f":"'formátovací list'!F30","v":0},{"$f":"'formátovací list'!D30","v":0},{"$f":"IF('formátovací list'!B30=\" \",\"\",IF('formátovací list'!B30=1,\"Y\",\"N\"))","v":{"$error":"#REF!"}},{"$f":"'formátovací list'!G30","v":0}]
[{"$f":"IF(AND(Poptávka!#REF!=\"\",Poptávka!G31>0),Poptávka!B31,Poptávka!#REF!)","v":{"$error":"#REF!"}},{"$f":"'formátovací list'!F31","v":0},{"$f":"'formátovací list'!D31","v":0},{"$f":"IF('formátovací list'!B31=\" \",\"\",IF('formátovací list'!B31=1,\"Y\",\"N\"))","v":{"$error":"#REF!"}},{"$f":"'formátovací list'!G31","v":0}]
[{"$f":"IF(AND(Poptávka!#REF!=\"\",Poptávka!G32>0),Poptávka!B32,Poptávka!#REF!)","v":{"$error":"#REF!"}},{"$f":"'formátovací list'!F32","v":0},{"$f":"'formátovací list'!D32","v":0},{"$f":"IF('formátovací list'!B32=\" \",\"\",IF('formátovací list'!B32=1,\"Y\",\"N\"))","v":{"$error":"#REF!"}},{"$f":"'formátovací list'!G32","v":0}]
[{"$f":"IF(AND(Poptávka!#REF!=\"\",Poptávka!#REF!>0),Poptávka!#REF!,Poptávka!#REF!)","v":{"$error":"#REF!"}},{"$f":"'formátovací list'!F33","v":{"$error":"#REF!"}},{"$f":"'formátovací list'!D33","v":{"$error":"#REF!"}},{"$f":"IF('formátovací list'!B33=\" \",\"\",IF('formátovací list'!B33=1,\"Y\",\"N\"))","v":{"$error":"#REF!"}},{"$f":"'formátovací list'!G33","v":{"$error":"#REF!"}}]
[{"$f":"IF(AND(Poptávka!#REF!=\"\",Poptávka!#REF!>0),Poptávka!#REF!,Poptávka!#REF!)","v":{"$error":"#REF!"}},{"$f":"'formátovací list'!F34","v":{"$error":"#REF!"}},{"$f":"'formátovací list'!D34","v":{"$error":"#REF!"}},{"$f":"IF('formátovací list'!B34=\" \",\"\",IF('formátovací list'!B34=1,\"Y\",\"N\"))","v":{"$error":"#REF!"}},{"$f":"'formátovací list'!G34","v":{"$error":"#REF!"}}]
[{"$f":"IF(AND(Poptávka!#REF!=\"\",Poptávka!#REF!>0),Poptávka!#REF!,Poptávka!#REF!)","v":{"$error":"#REF!"}},{"$f":"'formátovací list'!F35","v":{"$error":"#REF!"}},{"$f":"'formátovací list'!D35","v":{"$error":"#REF!"}},{"$f":"IF('formátovací list'!B35=\" \",\"\",IF('formátovací list'!B35=1,\"Y\",\"N\"))","v":{"$error":"#REF!"}},{"$f":"'formátovací list'!G35","v":{"$error":"#REF!"}}]
[{"$f":"IF(AND(Poptávka!#REF!=\"\",Poptávka!#REF!>0),Poptávka!#REF!,Poptávka!#REF!)","v":{"$error":"#REF!"}},{"$f":"'formátovací list'!F36","v":{"$error":"#REF!"}},{"$f":"'formátovací list'!D36","v":{"$error":"#REF!"}},{"$f":"IF('formátovací list'!B36=\" \",\"\",IF('formátovací list'!B36=1,\"Y\",\"N\"))","v":{"$error":"#REF!"}},{"$f":"'formátovací list'!G36","v":{"$error":"#REF!"}}]
[{"$f":"IF(AND(Poptávka!#REF!=\"\",Poptávka!#REF!>0),Poptávka!#REF!,Poptávka!#REF!)","v":{"$error":"#REF!"}},{"$f":"'formátovací list'!F37","v":{"$error":"#REF!"}},{"$f":"'formátovací list'!D37","v":{"$error":"#REF!"}},{"$f":"IF('formátovací list'!B37=\" \",\"\",IF('formátovací list'!B37=1,\"Y\",\"N\"))","v":{"$error":"#REF!"}},{"$f":"'formátovací list'!G37","v":{"$error":"#REF!"}}]
[{"$f":"IF(AND(Poptávka!#REF!=\"\",Poptávka!#REF!>0),Poptávka!#REF!,Poptávka!#REF!)","v":{"$error":"#REF!"}},{"$f":"'formátovací list'!F38","v":{"$error":"#REF!"}},{"$f":"'formátovací list'!D38","v":{"$error":"#REF!"}},{"$f":"IF('formátovací list'!B38=\" \",\"\",IF('formátovací list'!B38=1,\"Y\",\"N\"))","v":{"$error":"#REF!"}},{"$f":"'formátovací list'!G38","v":{"$error":"#REF!"}}]
[{"$f":"IF(AND(Poptávka!#REF!=\"\",Poptávka!#REF!>0),Poptávka!#REF!,Poptávka!#REF!)","v":{"$error":"#REF!"}},{"$f":"'formátovací list'!F39","v":{"$error":"#REF!"}},{"$f":"'formátovací list'!D39","v":{"$error":"#REF!"}},{"$f":"IF('formátovací list'!B39=\" \",\"\",IF('formátovací list'!B39=1,\"Y\",\"N\"))","v":{"$error":"#REF!"}},{"$f":"'formátovací list'!G39","v":{"$error":"#REF!"}}]
[{"$f":"IF(AND(Poptávka!#REF!=\"\",Poptávka!#REF!>0),Poptávka!#REF!,Poptávka!#REF!)","v":{"$error":"#REF!"}},{"$f":"'formátovací list'!F40","v":{"$error":"#REF!"}},{"$f":"'formátovací list'!D40","v":{"$error":"#REF!"}},{"$f":"IF('formátovací list'!B40=\" \",\"\",IF('formátovací list'!B40=1,\"Y\",\"N\"))","v":{"$error":"#REF!"}},{"$f":"'formátovací list'!G40","v":{"$error":"#REF!"}}]
[{"$f":"IF(AND(Poptávka!#REF!=\"\",Poptávka!#REF!>0),Poptávka!#REF!,Poptávka!#REF!)","v":{"$error":"#REF!"}},{"$f":"'formátovací list'!F41","v":{"$error":"#REF!"}},{"$f":"'formátovací list'!D41","v":{"$error":"#REF!"}},{"$f":"IF('formátovací list'!B41=\" \",\"\",IF('formátovací list'!B41=1,\"Y\",\"N\"))","v":{"$error":"#REF!"}},{"$f":"'formátovací list'!G41","v":{"$error":"#REF!"}}]
[{"$f":"IF(AND(Poptávka!#REF!=\"\",Poptávka!#REF!>0),Poptávka!#REF!,Poptávka!#REF!)","v":{"$error":"#REF!"}},{"$f":"'formátovací list'!F42","v":{"$error":"#REF!"}},{"$f":"'formátovací list'!D42","v":{"$error":"#REF!"}},{"$f":"IF('formátovací list'!B42=\" \",\"\",IF('formátovací list'!B42=1,\"Y\",\"N\"))","v":{"$error":"#REF!"}},{"$f":"'formátovací list'!G42","v":{"$error":"#REF!"}}]
[{"$f":"IF(AND(Poptávka!#REF!=\"\",Poptávka!#REF!>0),Poptávka!#REF!,Poptávka!#REF!)","v":{"$error":"#REF!"}},{"$f":"'formátovací list'!F43","v":{"$error":"#REF!"}},{"$f":"'formátovací list'!D43","v":{"$error":"#REF!"}},{"$f":"IF('formátovací list'!B43=\" \",\"\",IF('formátovací list'!B43=1,\"Y\",\"N\"))","v":{"$error":"#REF!"}},{"$f":"'formátovací list'!G43","v":{"$error":"#REF!"}}]
[{"$f":"IF(AND(Poptávka!#REF!=\"\",Poptávka!#REF!>0),Poptávka!#REF!,Poptávka!#REF!)","v":{"$error":"#REF!"}},{"$f":"'formátovací list'!F44","v":{"$error":"#REF!"}},{"$f":"'formátovací list'!D44","v":{"$error":"#REF!"}},{"$f":"IF('formátovací list'!B44=\" \",\"\",IF('formátovací list'!B44=1,\"Y\",\"N\"))","v":{"$error":"#REF!"}},{"$f":"'formátovací list'!G44","v":{"$error":"#REF!"}}]
[{"$f":"IF(AND(Poptávka!#REF!=\"\",Poptávka!#REF!>0),Poptávka!#REF!,Poptávka!#REF!)","v":{"$error":"#REF!"}},{"$f":"'formátovací list'!F45","v":{"$error":"#REF!"}},{"$f":"'formátovací list'!D45","v":{"$error":"#REF!"}},{"$f":"IF('formátovací list'!B45=\" \",\"\",IF('formátovací list'!B45=1,\"Y\",\"N\"))","v":{"$error":"#REF!"}},{"$f":"'formátovací list'!G45","v":{"$error":"#REF!"}}]
[{"$f":"IF(AND(Poptávka!#REF!=\"\",Poptávka!#REF!>0),Poptávka!#REF!,Poptávka!#REF!)","v":{"$error":"#REF!"}},{"$f":"'formátovací list'!F46","v":{"$error":"#REF!"}},{"$f":"'formátovací list'!D46","v":{"$error":"#REF!"}},{"$f":"IF('formátovací list'!B46=\" \",\"\",IF('formátovací list'!B46=1,\"Y\",\"N\"))","v":{"$error":"#REF!"}},{"$f":"'formátovací list'!G46","v":{"$error":"#REF!"}}]
[{"$f":"IF(AND(Poptávka!#REF!=\"\",Poptávka!#REF!>0),Poptávka!#REF!,Poptávka!#REF!)","v":{"$error":"#REF!"}},{"$f":"'formátovací list'!F47","v":{"$error":"#REF!"}},{"$f":"'formátovací list'!D47","v":{"$error":"#REF!"}},{"$f":"IF('formátovací list'!B47=\" \",\"\",IF('formátovací list'!B47=1,\"Y\",\"N\"))","v":{"$error":"#REF!"}},{"$f":"'formátovací list'!G47","v":{"$error":"#REF!"}}]
[{"$f":"IF(AND(Poptávka!#REF!=\"\",Poptávka!#REF!>0),Poptávka!#REF!,Poptávka!#REF!)","v":{"$error":"#REF!"}},{"$f":"'formátovací list'!F48","v":{"$error":"#REF!"}},{"$f":"'formátovací list'!D48","v":{"$error":"#REF!"}},{"$f":"IF('formátovací list'!B48=\" \",\"\",IF('formátovací list'!B48=1,\"Y\",\"N\"))","v":{"$error":"#REF!"}},{"$f":"'formátovací list'!G48","v":{"$error":"#REF!"}}]
[{"$f":"IF(AND(Poptávka!#REF!=\"\",Poptávka!#REF!>0),Poptávka!#REF!,Poptávka!#REF!)","v":{"$error":"#REF!"}},{"$f":"'formátovací list'!F49","v":{"$error":"#REF!"}},{"$f":"'formátovací list'!D49","v":{"$error":"#REF!"}},{"$f":"IF('formátovací list'!B49=\" \",\"\",IF('formátovací list'!B49=1,\"Y\",\"N\"))","v":{"$error":"#REF!"}},{"$f":"'formátovací list'!G49","v":{"$error":"#REF!"}}]
[{"$f":"IF(AND(Poptávka!#REF!=\"\",Poptávka!#REF!>0),Poptávka!#REF!,Poptávka!#REF!)","v":{"$error":"#REF!"}},{"$f":"'formátovací list'!F50","v":{"$error":"#REF!"}},{"$f":"'formátovací list'!D50","v":{"$error":"#REF!"}},{"$f":"IF('formátovací list'!B50=\" \",\"\",IF('formátovací list'!B50=1,\"Y\",\"N\"))","v":{"$error":"#REF!"}},{"$f":"'formátovací list'!G50","v":{"$error":"#REF!"}}]
[{"$f":"IF(AND(Poptávka!#REF!=\"\",Poptávka!#REF!>0),Poptávka!#REF!,Poptávka!#REF!)","v":{"$error":"#REF!"}},{"$f":"'formátovací list'!F51","v":{"$error":"#REF!"}},{"$f":"'formátovací list'!D51","v":{"$error":"#REF!"}},{"$f":"IF('formátovací list'!B51=\" \",\"\",IF('formátovací list'!B51=1,\"Y\",\"N\"))","v":{"$error":"#REF!"}},{"$f":"'formátovací list'!G51","v":{"$error":"#REF!"}}]
[{"$f":"IF(AND(Poptávka!#REF!=\"\",Poptávka!#REF!>0),Poptávka!#REF!,Poptávka!#REF!)","v":{"$error":"#REF!"}},{"$f":"'formátovací list'!F52","v":{"$error":"#REF!"}},{"$f":"'formátovací list'!D52","v":{"$error":"#REF!"}},{"$f":"IF('formátovací list'!B52=\" \",\"\",IF('formátovací list'!B52=1,\"Y\",\"N\"))","v":{"$error":"#REF!"}},{"$f":"'formátovací list'!G52","v":{"$error":"#REF!"}}]
[{"$f":"IF(AND(Poptávka!#REF!=\"\",Poptávka!#REF!>0),Poptávka!#REF!,Poptávka!#REF!)","v":{"$error":"#REF!"}},{"$f":"'formátovací list'!F53","v":{"$error":"#REF!"}},{"$f":"'formátovací list'!D53","v":{"$error":"#REF!"}},{"$f":"IF('formátovací list'!B53=\" \",\"\",IF('formátovací list'!B53=1,\"Y\",\"N\"))","v":{"$error":"#REF!"}},{"$f":"'formátovací list'!G53","v":{"$error":"#REF!"}}]
[{"$f":"IF(AND(Poptávka!#REF!=\"\",Poptávka!#REF!>0),Poptávka!#REF!,Poptávka!#REF!)","v":{"$error":"#REF!"}},{"$f":"'formátovací list'!F54","v":{"$error":"#REF!"}},{"$f":"'formátovací list'!D54","v":{"$error":"#REF!"}},{"$f":"IF('formátovací list'!B54=\" \",\"\",IF('formátovací list'!B54=1,\"Y\",\"N\"))","v":{"$error":"#REF!"}},{"$f":"'formátovací list'!G54","v":{"$error":"#REF!"}}]
[{"$f":"IF(AND(Poptávka!#REF!=\"\",Poptávka!#REF!>0),Poptávka!#REF!,Poptávka!#REF!)","v":{"$error":"#REF!"}},{"$f":"'formátovací list'!F55","v":{"$error":"#REF!"}},{"$f":"'formátovací list'!D55","v":{"$error":"#REF!"}},{"$f":"IF('formátovací list'!B55=\" \",\"\",IF('formátovací list'!B55=1,\"Y\",\"N\"))","v":{"$error":"#REF!"}},{"$f":"'formátovací list'!G55","v":{"$error":"#REF!"}}]
[{"$f":"IF(AND(Poptávka!#REF!=\"\",Poptávka!#REF!>0),Poptávka!#REF!,Poptávka!#REF!)","v":{"$error":"#REF!"}},{"$f":"'formátovací list'!F56","v":{"$error":"#REF!"}},{"$f":"'formátovací list'!D56","v":{"$error":"#REF!"}},{"$f":"IF('formátovací list'!B56=\" \",\"\",IF('formátovací list'!B56=1,\"Y\",\"N\"))","v":{"$error":"#REF!"}},{"$f":"'formátovací list'!G56","v":{"$error":"#REF!"}}]
[{"$f":"IF(AND(Poptávka!#REF!=\"\",Poptávka!#REF!>0),Poptávka!#REF!,Poptávka!#REF!)","v":{"$error":"#REF!"}},{"$f":"'formátovací list'!F57","v":{"$error":"#REF!"}},{"$f":"'formátovací list'!D57","v":{"$error":"#REF!"}},{"$f":"IF('formátovací list'!B57=\" \",\"\",IF('formátovací list'!B57=1,\"Y\",\"N\"))","v":{"$error":"#REF!"}},{"$f":"'formátovací list'!G57","v":{"$error":"#REF!"}}]